BEGIN:VCALENDAR
VERSION:2.0
PRODID:-//Tourism Valemount - ECPv6.6.1//NONSGML v1.0//EN
CALSCALE:GREGORIAN
METHOD:PUBLISH
X-ORIGINAL-URL:https://visitvalemount.ca
X-WR-CALDESC:Events for Tourism Valemount
REFRESH-INTERVAL;VALUE=DURATION:PT1H
X-Robots-Tag:noindex
X-PUBLISHED-TTL:PT1H
BEGIN:VTIMEZONE
TZID:America/Vancouver
BEGIN:DAYLIGHT
TZOFFSETFROM:-0800
TZOFFSETTO:-0700
TZNAME:PDT
DTSTART:20240310T100000
END:DAYLIGHT
BEGIN:STANDARD
TZOFFSETFROM:-0700
TZOFFSETTO:-0800
TZNAME:PST
DTSTART:20241103T090000
END:STANDARD
BEGIN:DAYLIGHT
TZOFFSETFROM:-0800
TZOFFSETTO:-0700
TZNAME:PDT
DTSTART:20250309T100000
END:DAYLIGHT
BEGIN:STANDARD
TZOFFSETFROM:-0700
TZOFFSETTO:-0800
TZNAME:PST
DTSTART:20251102T090000
END:STANDARD
END:VTIMEZONE
BEGIN:VEVENT
DTSTART;TZID=America/Vancouver:20241206T080000
DTEND;TZID=America/Vancouver:20250117T170000
DTSTAMP:20260420T133505
CREATED:20241204T223155Z
LAST-MODIFIED:20241204T223527Z
UID:12055-1733472000-1737133200@visitvalemount.ca
SUMMARY:Valemount’s Holiday Shopping Passport 🎄
DESCRIPTION:Dates: December 6\, 2024 – January 17\, 2025\nLocation: Participating Stores in Valemount \nDiscover the magic of shopping local this holiday season in Valemount! From stocking stuffers to unique activities and après experiences\, Valemount is your ultimate festive destination. \nPick up your Holiday Shopping Passport at participating stores starting December 6. Every time you shop\, get your passport stamped. Each stamp gets you closer to a chance at winning BIG this winter! \nExperience the holiday spirit where shopping\, play\, and après come together in true Valemount fashion. Shop local and share the joy!
URL:https://visitvalemount.ca/event/12055/
ORGANIZER;CN="Tourism Valemount":MAILTO:execdirector@visitvalemount.ca
END:VEVENT
BEGIN:VEVENT
DTSTART;VALUE=DATE:20241229
DTEND;VALUE=DATE:20250109
DTSTAMP:20260420T133505
CREATED:20241229T204216Z
LAST-MODIFIED:20241229T204553Z
UID:12070-1735430400-1736380799@visitvalemount.ca
SUMMARY:JOB OPPORTUNITY - Team Leader Position at the Valemount Interpretive Center
DESCRIPTION:Join Tourism Valemount as a Team Leader at the Valemount Interpretive Center! \nWe’re looking for an enthusiastic and dynamic individual with a passion for tourism and promoting the Valemount area. As Team Leader\, you’ll guide the VIC team to ensure visitors have an exceptional experience at the center and while exploring the community. \nThis is a full-time position (40 hours per week) with a pay range starting at $25 to $27.30 per hour\, depending on experience. The role also includes an employee benefits package and opportunities for sales incentives/commissions. \nFor more information about the position and application details\, please refer to the linked document\, here: VIC Team Leader posting \nSubmit your application by January 8\, 2025!
URL:https://visitvalemount.ca/event/job-opportunity-team-leader-position-at-the-valemount-interpretive-center/
END:VEVENT
END:VCALENDAR