BEGIN:VCALENDAR
VERSION:2.0
PRODID:-//Tourism Valemount - ECPv6.6.1//NONSGML v1.0//EN
CALSCALE:GREGORIAN
METHOD:PUBLISH
X-WR-CALNAME:Tourism Valemount
X-ORIGINAL-URL:https://visitvalemount.ca
X-WR-CALDESC:Events for Tourism Valemount
REFRESH-INTERVAL;VALUE=DURATION:PT1H
X-Robots-Tag:noindex
X-PUBLISHED-TTL:PT1H
BEGIN:VTIMEZONE
TZID:America/Vancouver
BEGIN:DAYLIGHT
TZOFFSETFROM:-0800
TZOFFSETTO:-0700
TZNAME:PDT
DTSTART:20250309T100000
END:DAYLIGHT
BEGIN:STANDARD
TZOFFSETFROM:-0700
TZOFFSETTO:-0800
TZNAME:PST
DTSTART:20251102T090000
END:STANDARD
END:VTIMEZONE
BEGIN:VEVENT
DTSTART;TZID=America/Vancouver:20250124T170000
DTEND;TZID=America/Vancouver:20250124T230000
DTSTAMP:20260420T103203
CREATED:20250110T003656Z
LAST-MODIFIED:20250110T003656Z
UID:12090-1737738000-1737759600@visitvalemount.ca
SUMMARY:Open Mic Night at the Legion
DESCRIPTION:Every Friday\, Valemount comes alive with musical energy! \nDinner: 5:00 pm\nMusic: 7:00 pm (children welcome until 10 pm)\nWhere: Branch 266\, Valemount Legion
URL:https://visitvalemount.ca/event/open-mic-night-at-the-legion-2/
END:VEVENT
END:VCALENDAR