BEGIN:VCALENDAR
VERSION:2.0
PRODID:-//Tourism Valemount - ECPv6.6.1//NONSGML v1.0//EN
CALSCALE:GREGORIAN
METHOD:PUBLISH
X-ORIGINAL-URL:https://visitvalemount.ca
X-WR-CALDESC:Events for Tourism Valemount
REFRESH-INTERVAL;VALUE=DURATION:PT1H
X-Robots-Tag:noindex
X-PUBLISHED-TTL:PT1H
BEGIN:VTIMEZONE
TZID:America/Vancouver
BEGIN:DAYLIGHT
TZOFFSETFROM:-0800
TZOFFSETTO:-0700
TZNAME:PDT
DTSTART:20250309T100000
END:DAYLIGHT
BEGIN:STANDARD
TZOFFSETFROM:-0700
TZOFFSETTO:-0800
TZNAME:PST
DTSTART:20251102T090000
END:STANDARD
END:VTIMEZONE
BEGIN:VEVENT
DTSTART;VALUE=DATE:20250802
DTEND;VALUE=DATE:20250804
DTSTAMP:20260420T000508
CREATED:20250723T231932Z
LAST-MODIFIED:20250723T232423Z
UID:12472-1754092800-1754265599@visitvalemount.ca
SUMMARY:NWMRA Valemount Mud Racing
DESCRIPTION:North West Mud Racing Association presents Valemount Races Aug 2nd and 3rd 2025! Come join us in Valemount at the Canoe River Camprground.  \nCome out and watch the side by side 200ft mud drags\, junior racers\, blown alcohol dragsters\, and the mega hill n’ hole trucks.\nDuring intermission free posters will be available for the kids. They are welcome to go around the pits to get them signed\, and take pictures. \n Click here for more info!
URL:https://visitvalemount.ca/event/nwmra-valemount-mud-racing/
END:VEVENT
END:VCALENDAR