BEGIN:VCALENDAR
VERSION:2.0
PRODID:-//Tourism Valemount - ECPv6.6.1//NONSGML v1.0//EN
CALSCALE:GREGORIAN
METHOD:PUBLISH
X-WR-CALNAME:Tourism Valemount
X-ORIGINAL-URL:https://visitvalemount.ca
X-WR-CALDESC:Events for Tourism Valemount
REFRESH-INTERVAL;VALUE=DURATION:PT1H
X-Robots-Tag:noindex
X-PUBLISHED-TTL:PT1H
BEGIN:VTIMEZONE
TZID:America/Vancouver
BEGIN:DAYLIGHT
TZOFFSETFROM:-0800
TZOFFSETTO:-0700
TZNAME:PDT
DTSTART:20250309T100000
END:DAYLIGHT
BEGIN:STANDARD
TZOFFSETFROM:-0700
TZOFFSETTO:-0800
TZNAME:PST
DTSTART:20251102T090000
END:STANDARD
END:VTIMEZONE
BEGIN:VEVENT
DTSTART;VALUE=DATE:20250913
DTEND;VALUE=DATE:20250915
DTSTAMP:20260419T222500
CREATED:20241120T191138Z
LAST-MODIFIED:20241120T191203Z
UID:12050-1757721600-1757894399@visitvalemount.ca
SUMMARY:Rocky Mountain Speedway Racing - Grand Finale Invitational
DESCRIPTION:Feel the adrenaline at the Rocky Mountain Speedway! 🏎️ Don’t miss the Grand Finale Invitational on September 13 & 14. Celebrate the thrilling conclusion of the 2025 season with unforgettable racing action! 🏁🔥 For event details and updates\, visit www.rockymountainspeedway.ca.
URL:https://visitvalemount.ca/event/rocky-mountain-speedway-racing-grand-finale-invitational/
LOCATION:Rocky Mountain Speedway\, 100 Cedarside Road\, Box 323\, Valemount\, BC\, V0E2Z0\, Canada
END:VEVENT
END:VCALENDAR