BEGIN:VCALENDAR
VERSION:2.0
PRODID:-//Tourism Valemount - ECPv6.6.1//NONSGML v1.0//EN
CALSCALE:GREGORIAN
METHOD:PUBLISH
X-WR-CALNAME:Tourism Valemount
X-ORIGINAL-URL:https://visitvalemount.ca
X-WR-CALDESC:Events for Tourism Valemount
REFRESH-INTERVAL;VALUE=DURATION:PT1H
X-Robots-Tag:noindex
X-PUBLISHED-TTL:PT1H
BEGIN:VTIMEZONE
TZID:America/Vancouver
BEGIN:DAYLIGHT
TZOFFSETFROM:-0800
TZOFFSETTO:-0700
TZNAME:PDT
DTSTART:20260308T100000
END:DAYLIGHT
BEGIN:STANDARD
TZOFFSETFROM:-0700
TZOFFSETTO:-0800
TZNAME:PST
DTSTART:20261101T090000
END:STANDARD
END:VTIMEZONE
BEGIN:VEVENT
DTSTART;VALUE=DATE:20260612
DTEND;VALUE=DATE:20260615
DTSTAMP:20260419T144201
CREATED:20260128T202421Z
LAST-MODIFIED:20260128T202505Z
UID:13169-1781222400-1781481599@visitvalemount.ca
SUMMARY:Valemountain Days 2026
DESCRIPTION:Get ready for Valemountain Days! 🏔️ \nJoin us for a fun-filled weekend celebrating community\, adventure\, and the sunny season. From family-friendly entertainment to high-energy events\, there’s something for everyone to enjoy. Come and experience all that Valemount has to offer!
URL:https://visitvalemount.ca/event/valemountain-days-2026-2/
END:VEVENT
BEGIN:VEVENT
DTSTART;VALUE=DATE:20260612
DTEND;VALUE=DATE:20260615
DTSTAMP:20260419T144201
CREATED:20250924T164156Z
LAST-MODIFIED:20250924T203839Z
UID:12573-1781222400-1781481599@visitvalemount.ca
SUMMARY:Valemountain Days 2026
DESCRIPTION:Get ready for Valemountain Days! 🏔️ \nJoin us for a fun-filled weekend celebrating community\, adventure\, and the sunny season. From family-friendly entertainment to high-energy events\, there’s something for everyone to enjoy. Come and experience all that Valemount has to offer!
URL:https://visitvalemount.ca/event/valemountain-days-2026/
END:VEVENT
END:VCALENDAR