BEGIN:VCALENDAR
VERSION:2.0
PRODID:-//Tourism Valemount - ECPv6.6.1//NONSGML v1.0//EN
CALSCALE:GREGORIAN
METHOD:PUBLISH
X-ORIGINAL-URL:https://visitvalemount.ca
X-WR-CALDESC:Events for Tourism Valemount
REFRESH-INTERVAL;VALUE=DURATION:PT1H
X-Robots-Tag:noindex
X-PUBLISHED-TTL:PT1H
BEGIN:VTIMEZONE
TZID:America/Vancouver
BEGIN:DAYLIGHT
TZOFFSETFROM:-0800
TZOFFSETTO:-0700
TZNAME:PDT
DTSTART:20260308T100000
END:DAYLIGHT
BEGIN:STANDARD
TZOFFSETFROM:-0700
TZOFFSETTO:-0800
TZNAME:PST
DTSTART:20261101T090000
END:STANDARD
END:VTIMEZONE
BEGIN:VEVENT
DTSTART;VALUE=DATE:20260703
DTEND;VALUE=DATE:20260706
DTSTAMP:20260419T144315
CREATED:20251120T015533Z
LAST-MODIFIED:20251120T021112Z
UID:12726-1783036800-1783295999@visitvalemount.ca
SUMMARY:Alpenglow 100
DESCRIPTION:Trail runners\, mark your calendars! The highly anticipated Alpenglow 100 Trail Running Race will take place Friday\, July 3rd – Sunday\, July 5th in Valemount\, BC. This exciting event promises breathtaking views via high alpine terrain and will certainly be an unforgettable challenge for runners of all skill levels. \nFor more information:\ntrailrunning.ca/race/alpenglow/ \n\nPhoto credit: Jelmer Snoeck \n\nPhoto credit: Ty Holtan \n\nPhoto credit: Ty Holtan
URL:https://visitvalemount.ca/event/alpenglow-100/
END:VEVENT
END:VCALENDAR