BEGIN:VCALENDAR
VERSION:2.0
PRODID:-//Tourism Valemount - ECPv6.6.1//NONSGML v1.0//EN
CALSCALE:GREGORIAN
METHOD:PUBLISH
X-WR-CALNAME:Tourism Valemount
X-ORIGINAL-URL:https://visitvalemount.ca
X-WR-CALDESC:Events for Tourism Valemount
REFRESH-INTERVAL;VALUE=DURATION:PT1H
X-Robots-Tag:noindex
X-PUBLISHED-TTL:PT1H
BEGIN:VTIMEZONE
TZID:America/Vancouver
BEGIN:DAYLIGHT
TZOFFSETFROM:-0800
TZOFFSETTO:-0700
TZNAME:PDT
DTSTART:20250309T100000
END:DAYLIGHT
BEGIN:STANDARD
TZOFFSETFROM:-0700
TZOFFSETTO:-0800
TZNAME:PST
DTSTART:20251102T090000
END:STANDARD
BEGIN:DAYLIGHT
TZOFFSETFROM:-0800
TZOFFSETTO:-0700
TZNAME:PDT
DTSTART:20260308T100000
END:DAYLIGHT
BEGIN:STANDARD
TZOFFSETFROM:-0700
TZOFFSETTO:-0800
TZNAME:PST
DTSTART:20261101T090000
END:STANDARD
END:VTIMEZONE
BEGIN:VEVENT
DTSTART;VALUE=DATE:20260905
DTEND;VALUE=DATE:20260907
DTSTAMP:20260420T000855
CREATED:20250820T232812Z
LAST-MODIFIED:20260107T230855Z
UID:12512-1788566400-1788739199@visitvalemount.ca
SUMMARY:45th Annual Family Fishing Derby
DESCRIPTION:🎣 Valemount Fishing Derby 2026 \nGather your rods and reels and join us at Kinbasket Lake for a weekend of family-friendly fishing fun! Cast your line for a chance to win great prizes\, take part in exciting raffles and door prizes\, and enjoy the community spirit on the water’s edge. Whether you’re an experienced angler or just starting out\, it’s the perfect way to spend the weekend with family and friends. \nWhere: Valemount Marina\, Kinbasket Lake\nWhen: September long weekend 2026 – TBC \n 
URL:https://visitvalemount.ca/event/44th-annual-family-fishing-derby/
END:VEVENT
BEGIN:VEVENT
DTSTART;VALUE=DATE:20260808
DTEND;VALUE=DATE:20260810
DTSTAMP:20260420T000855
CREATED:20250924T161047Z
LAST-MODIFIED:20250924T161047Z
UID:12558-1786147200-1786319999@visitvalemount.ca
SUMMARY:Rocky Mountain Speedway Racing - SS Brushing Payout Invitational
DESCRIPTION:
URL:https://visitvalemount.ca/event/rocky-mountain-speedway-racing-ss-brushing-payout-invitational/
END:VEVENT
BEGIN:VEVENT
DTSTART;TZID=America/Vancouver:20260801T110000
DTEND;TZID=America/Vancouver:20260802T170000
DTSTAMP:20260420T000855
CREATED:20260401T192628Z
LAST-MODIFIED:20260401T192711Z
UID:13300-1785582000-1785690000@visitvalemount.ca
SUMMARY:NWMRA Valemount Mud Drags - 2026
DESCRIPTION:Join us on August 1 and 2 at the Canoe River Campground in Valemount for the Annual Mud Racing Event brought to you by the North West Mud Racing Association! \nIt is a family-friendly racing event featuring 200ft side-by-side mud drags\, junior racers\, blown alcohol dragsters\, and hill n’ hole racing\, with opportunities for kids to meet drivers and enjoy the action up close.  \nFor more information and access to tickets visit /www.zeffy.com/en-CA/ticketing/nwmra-valemount-mud-drags–2026
URL:https://visitvalemount.ca/event/nwmra-valemount-mud-drags-2026/
END:VEVENT
BEGIN:VEVENT
DTSTART;VALUE=DATE:20260711
DTEND;VALUE=DATE:20260713
DTSTAMP:20260420T000855
CREATED:20250924T160936Z
LAST-MODIFIED:20250924T161352Z
UID:12555-1783728000-1783900799@visitvalemount.ca
SUMMARY:Rocky Mountain Speedway Racing - RCE Payout Invitational
DESCRIPTION:
URL:https://visitvalemount.ca/event/rocky-mountain-speedway-racing-race-payout-invitational/
END:VEVENT
BEGIN:VEVENT
DTSTART;VALUE=DATE:20260703
DTEND;VALUE=DATE:20260706
DTSTAMP:20260420T000855
CREATED:20251120T015533Z
LAST-MODIFIED:20251120T021112Z
UID:12726-1783036800-1783295999@visitvalemount.ca
SUMMARY:Alpenglow 100
DESCRIPTION:Trail runners\, mark your calendars! The highly anticipated Alpenglow 100 Trail Running Race will take place Friday\, July 3rd – Sunday\, July 5th in Valemount\, BC. This exciting event promises breathtaking views via high alpine terrain and will certainly be an unforgettable challenge for runners of all skill levels. \nFor more information:\ntrailrunning.ca/race/alpenglow/ \n\nPhoto credit: Jelmer Snoeck \n\nPhoto credit: Ty Holtan \n\nPhoto credit: Ty Holtan
URL:https://visitvalemount.ca/event/alpenglow-100/
END:VEVENT
BEGIN:VEVENT
DTSTART;VALUE=DATE:20260620
DTEND;VALUE=DATE:20260622
DTSTAMP:20260420T000855
CREATED:20250924T160850Z
LAST-MODIFIED:20250924T160850Z
UID:12553-1781913600-1782086399@visitvalemount.ca
SUMMARY:Rocky Mountain Speedway Racing - Rich Boyz Father's Day Payout Invitational
DESCRIPTION:
URL:https://visitvalemount.ca/event/rocky-mountain-speedway-racing-rich-boyz-fathers-day-payout-invitational/
END:VEVENT
BEGIN:VEVENT
DTSTART;VALUE=DATE:20260612
DTEND;VALUE=DATE:20260615
DTSTAMP:20260420T000855
CREATED:20250924T164156Z
LAST-MODIFIED:20250924T203839Z
UID:12573-1781222400-1781481599@visitvalemount.ca
SUMMARY:Valemountain Days 2026
DESCRIPTION:Get ready for Valemountain Days! 🏔️ \nJoin us for a fun-filled weekend celebrating community\, adventure\, and the sunny season. From family-friendly entertainment to high-energy events\, there’s something for everyone to enjoy. Come and experience all that Valemount has to offer!
URL:https://visitvalemount.ca/event/valemountain-days-2026/
END:VEVENT
BEGIN:VEVENT
DTSTART;VALUE=DATE:20260612
DTEND;VALUE=DATE:20260615
DTSTAMP:20260420T000855
CREATED:20260128T202421Z
LAST-MODIFIED:20260128T202505Z
UID:13169-1781222400-1781481599@visitvalemount.ca
SUMMARY:Valemountain Days 2026
DESCRIPTION:Get ready for Valemountain Days! 🏔️ \nJoin us for a fun-filled weekend celebrating community\, adventure\, and the sunny season. From family-friendly entertainment to high-energy events\, there’s something for everyone to enjoy. Come and experience all that Valemount has to offer!
URL:https://visitvalemount.ca/event/valemountain-days-2026-2/
END:VEVENT
BEGIN:VEVENT
DTSTART;VALUE=DATE:20260523
DTEND;VALUE=DATE:20260525
DTSTAMP:20260420T000855
CREATED:20250924T160741Z
LAST-MODIFIED:20250924T160741Z
UID:12550-1779494400-1779667199@visitvalemount.ca
SUMMARY:Rocky Mountain Speedway Racing - Season Opener Payout Invitational
DESCRIPTION:
URL:https://visitvalemount.ca/event/rocky-mountain-speedway-racing-season-opener-payout-invitational/
LOCATION:Rocky Mountain Speedway\, 100 Cedarside Road\, Box 323\, Valemount\, BC\, V0E2Z0\, Canada
END:VEVENT
BEGIN:VEVENT
DTSTART;VALUE=DATE:20260307
DTEND;VALUE=DATE:20260308
DTSTAMP:20260420T000855
CREATED:20251120T190359Z
LAST-MODIFIED:20260114T001323Z
UID:12739-1772841600-1772927999@visitvalemount.ca
SUMMARY:Forever29 - Celebrating Mama_Gids\, Sledding\, and Avalanche safety!
DESCRIPTION:Join us on March 7\, 2026\, for Mamagids’ Birthday Bash — Forever29! A day dedicated to celebrating sledding and promoting avalanche safety at Allan Creek in Valemount\, BC. \nThis family-friendly event will feature outdoor games and activities\, food\, and exciting prize giveaways! \nWe’re also offering sponsorship opportunities for local businesses and community members who want to support snow safety while showcasing their brand. \nFor more information:\n– Contact Taylor Gidney on Instagram at @mama_gids\n– Sponsorship Package \n \n \n \nPhotos by Boosted Imagery
URL:https://visitvalemount.ca/event/forever29-celebrating-mama_gids-sledding-and-avalanche-safety/
END:VEVENT
BEGIN:VEVENT
DTSTART;VALUE=DATE:20260306
DTEND;VALUE=DATE:20260307
DTSTAMP:20260420T000855
CREATED:20260221T200553Z
LAST-MODIFIED:20260221T200553Z
UID:13256-1772755200-1772841599@visitvalemount.ca
SUMMARY:Vancouver International Mountain Film Festival
DESCRIPTION:If you love 🏔️ Mountain Films 🏔️ and want to continue to have this opportunity for a night out with like-minded people watching some of the most inspiring films from around the world 🌎\, then you know what to do!\nJoin us Friday\, March 6th 2026 at the Valemount Community Theatre.\nShow at 7:30\, Doors at 7pm \nTickets: $25/General Admission\, $50 Family pass (1-2 adults and up to 3 minors living under their care) \nTickets are available at Infinity Office & Health (cash only)\nOnline at: Valemount Arts (card only)\nOr at the door (cash only) \nThere will be a concession onsite during the intermission.  \nGather your friends\, purchase your tickets\, and come on down to the Community Theatre for a fun evening.
URL:https://visitvalemount.ca/event/vancouver-international-mountain-film-festival/
END:VEVENT
BEGIN:VEVENT
DTSTART;VALUE=DATE:20250913
DTEND;VALUE=DATE:20250915
DTSTAMP:20260420T000855
CREATED:20241120T191138Z
LAST-MODIFIED:20241120T191203Z
UID:12050-1757721600-1757894399@visitvalemount.ca
SUMMARY:Rocky Mountain Speedway Racing - Grand Finale Invitational
DESCRIPTION:Feel the adrenaline at the Rocky Mountain Speedway! 🏎️ Don’t miss the Grand Finale Invitational on September 13 & 14. Celebrate the thrilling conclusion of the 2025 season with unforgettable racing action! 🏁🔥 For event details and updates\, visit www.rockymountainspeedway.ca.
URL:https://visitvalemount.ca/event/rocky-mountain-speedway-racing-grand-finale-invitational/
LOCATION:Rocky Mountain Speedway\, 100 Cedarside Road\, Box 323\, Valemount\, BC\, V0E2Z0\, Canada
END:VEVENT
BEGIN:VEVENT
DTSTART;VALUE=DATE:20250809
DTEND;VALUE=DATE:20250811
DTSTAMP:20260420T000855
CREATED:20241120T190952Z
LAST-MODIFIED:20241120T190952Z
UID:12047-1754697600-1754870399@visitvalemount.ca
SUMMARY:Rocky Mountain Speedway Racing - SS Brushing Invitational
DESCRIPTION:Feel the adrenaline at the Rocky Mountain Speedway! 🏎️ Get ready for the SS Brushing Invitational on August 9 & 10. Experience high-speed thrills and unforgettable racing action! 🏁🔥 For event details and updates\, visit www.rockymountainspeedway.ca.
URL:https://visitvalemount.ca/event/rocky-mountain-speedway-racing-ss-brushing-invitational/
LOCATION:Rocky Mountain Speedway\, 100 Cedarside Road\, Box 323\, Valemount\, BC\, V0E2Z0\, Canada
END:VEVENT
BEGIN:VEVENT
DTSTART;VALUE=DATE:20250802
DTEND;VALUE=DATE:20250804
DTSTAMP:20260420T000855
CREATED:20250723T231932Z
LAST-MODIFIED:20250723T232423Z
UID:12472-1754092800-1754265599@visitvalemount.ca
SUMMARY:NWMRA Valemount Mud Racing
DESCRIPTION:North West Mud Racing Association presents Valemount Races Aug 2nd and 3rd 2025! Come join us in Valemount at the Canoe River Camprground.  \nCome out and watch the side by side 200ft mud drags\, junior racers\, blown alcohol dragsters\, and the mega hill n’ hole trucks.\nDuring intermission free posters will be available for the kids. They are welcome to go around the pits to get them signed\, and take pictures. \n Click here for more info!
URL:https://visitvalemount.ca/event/nwmra-valemount-mud-racing/
END:VEVENT
BEGIN:VEVENT
DTSTART;TZID=America/Vancouver:20250719T190000
DTEND;TZID=America/Vancouver:20250719T210000
DTSTAMP:20260420T000855
CREATED:20250624T203901Z
LAST-MODIFIED:20250624T203901Z
UID:12401-1752951600-1752958800@visitvalemount.ca
SUMMARY:Saturdays in the Park - Concert Series: Cat Crowley-Wied
DESCRIPTION:Join us in Centennial Park this summer for a free concert series featuring local musicians. This family-friendly event will have you grooving to great tunes all summer long!
URL:https://visitvalemount.ca/event/saturdays-in-the-park-concert-series-cat-crowley-wied/
END:VEVENT
BEGIN:VEVENT
DTSTART;TZID=America/Vancouver:20250712T190000
DTEND;TZID=America/Vancouver:20250712T210000
DTSTAMP:20260420T000855
CREATED:20250624T203709Z
LAST-MODIFIED:20250624T204430Z
UID:12399-1752346800-1752354000@visitvalemount.ca
SUMMARY:Saturdays in the Park - Concert Series: Jude Johnson
DESCRIPTION:Join us in Centennial Park this summer for a free concert series featuring local musicians. This family-friendly event will have you grooving to great tunes all summer long!
URL:https://visitvalemount.ca/event/saturdays-in-the-park-concert-series-jude-johnson/
END:VEVENT
BEGIN:VEVENT
DTSTART;VALUE=DATE:20250712
DTEND;VALUE=DATE:20250714
DTSTAMP:20260420T000855
CREATED:20241120T190803Z
LAST-MODIFIED:20241120T190803Z
UID:12044-1752278400-1752451199@visitvalemount.ca
SUMMARY:Rocky Mountain Speedway Racing - Invitational
DESCRIPTION:Feel the adrenaline at the Rocky Mountain Speedway! 🏎️ The 2025 season continues with the Invitational on July 12 & 13. Don’t miss the high-speed action and unforgettable excitement! 🏁🔥 For event details and updates\, visit www.rockymountainspeedway.ca.
URL:https://visitvalemount.ca/event/rocky-mountain-speedway-racing-invitational/
LOCATION:Rocky Mountain Speedway\, 100 Cedarside Road\, Box 323\, Valemount\, BC\, V0E2Z0\, Canada
END:VEVENT
BEGIN:VEVENT
DTSTART;TZID=America/Vancouver:20250705T190000
DTEND;TZID=America/Vancouver:20250705T210000
DTSTAMP:20260420T000855
CREATED:20250624T203620Z
LAST-MODIFIED:20250624T204437Z
UID:12396-1751742000-1751749200@visitvalemount.ca
SUMMARY:Saturdays in the Park - Concert Series: G. Michael Peters
DESCRIPTION:Join us in Centennial Park this summer for a free concert series featuring local musicians. This family-friendly event will have you grooving to great tunes all summer long!
URL:https://visitvalemount.ca/event/saturdays-in-the-park-concert-series-g-michael-peters/
END:VEVENT
BEGIN:VEVENT
DTSTART;VALUE=DATE:20250704
DTEND;VALUE=DATE:20250707
DTSTAMP:20260420T000855
CREATED:20250630T004100Z
LAST-MODIFIED:20250630T004426Z
UID:12414-1751587200-1751846399@visitvalemount.ca
SUMMARY:The Alpenglow 100 - By Coast Mountain Trail Running
DESCRIPTION:Trail runners\, mark your calendars! The highly anticipated Alpenglow 100 Trail Running Race will take place on July 4th – 6th weekend in Valemount\, BC. This exciting new event promises breathtaking views via high alpine terrain\, climbing all the way up to 2400 meters / almost 7800ft\, and will certainly be an unforgettable challenge for runners of all skill levels. \nFor more information:\ntrailrunning.ca/race/alpenglow/\nThe Alpenglow100
URL:https://visitvalemount.ca/event/the-alpenglow-100-by-coast-mountain-trail-running/
END:VEVENT
BEGIN:VEVENT
DTSTART;VALUE=DATE:20250614
DTEND;VALUE=DATE:20250616
DTSTAMP:20260420T000855
CREATED:20241120T190557Z
LAST-MODIFIED:20241120T190557Z
UID:12041-1749859200-1750031999@visitvalemount.ca
SUMMARY:Rocky Mountain Speedway Racing - Rich Boyz Invitational
DESCRIPTION:Feel the adrenaline at the Rocky Mountain Speedway! 🏎️ The 2025 season heats up with the Rich Boyz Invitational on June 14 & 15. Don’t miss the action-packed excitement! 🏁🔥 For event details and updates\, visit www.rockymountainspeedway.ca.
URL:https://visitvalemount.ca/event/rocky-mountain-speedway-racing-rich-boyz-invitational/
LOCATION:Rocky Mountain Speedway\, 100 Cedarside Road\, Box 323\, Valemount\, BC\, V0E2Z0\, Canada
END:VEVENT
BEGIN:VEVENT
DTSTART;VALUE=DATE:20250613
DTEND;VALUE=DATE:20250616
DTSTAMP:20260420T000855
CREATED:20250427T021405Z
LAST-MODIFIED:20250427T021454Z
UID:12342-1749772800-1750031999@visitvalemount.ca
SUMMARY:Valemount Spring Bike Fest June 13th to 15th
DESCRIPTION:Valemount Spring Bike Fest 🏔️🚵‍♂️\nDate: June 13–15\, 2025\nLocation: Valemount Bike Park\, Valemount\, BC \n \nGear up for the Valemount Spring Bike Fest! Join us June 13–15 for a weekend of trail rides\, good vibes\, and mountain adventure. Whether you’re a seasoned rider or just getting started\, come celebrate biking season in one of BC’s top riding destinations. \nSee you on the mountain!
URL:https://visitvalemount.ca/event/valemount-spring-bike-fest-june-13th-to-15th/
END:VEVENT
BEGIN:VEVENT
DTSTART;VALUE=DATE:20250613
DTEND;VALUE=DATE:20250616
DTSTAMP:20260420T000855
CREATED:20250427T015953Z
LAST-MODIFIED:20250427T022103Z
UID:12333-1749772800-1750031999@visitvalemount.ca
SUMMARY:Valemountain Days - June 13–15\, 2025
DESCRIPTION:Get ready for Valemountain Days! 🏔️ \nJoin us for a fun-filled weekend celebrating community\, adventure\, and the sunny season. From family-friendly entertainment to high-energy events\, there’s something for everyone to enjoy. Come and experience all that Valemount has to offer!
URL:https://visitvalemount.ca/event/valemountain-days-june-13-15-2025/
END:VEVENT
BEGIN:VEVENT
DTSTART;TZID=America/Vancouver:20250608T120000
DTEND;TZID=America/Vancouver:20250608T140000
DTSTAMP:20260420T000855
CREATED:20250427T015048Z
LAST-MODIFIED:20250529T171024Z
UID:12326-1749384000-1749391200@visitvalemount.ca
SUMMARY:Chinook Salmon Release — June 8\, 12 PM to 2 PM
DESCRIPTION:Chinook Salmon Release — June 8\, 12 PM to 2 PM \nDate: Sunday\, June 8\, 2025\nTime: 12:00 PM – 2:00 PM\nLocation: George Hicks Regional Park\, Valemount\, BC \nCome be part of a special moment as we send off Chinook Salmon in Valemount! 🐟  \nWe’re teaming up with Simpcw and the Spruce City Wildlife Association for this awesome event at George Hicks Regional Park. Come by Sunday\, June 8\, between 12 PM and 2 PM\, to help us release thousands of baby salmon into Swift Creek. 🌊🌟🌲🐟
URL:https://visitvalemount.ca/event/chinook-salmon-release-june-8-12-pm-to-2-pm/
END:VEVENT
BEGIN:VEVENT
DTSTART;VALUE=DATE:20250524
DTEND;VALUE=DATE:20250526
DTSTAMP:20260420T000855
CREATED:20241120T190348Z
LAST-MODIFIED:20241120T190348Z
UID:12036-1748044800-1748217599@visitvalemount.ca
SUMMARY:Rocky Mountain Speedway Racing - Season Opener Invitational
DESCRIPTION:Feel the adrenaline at the Rocky Mountain Speedway! 🏎️ Get ready for an unforgettable 2025 season\, starting with the Season Opener Invitational on May 24 & 25. Mark your calendars and join us for thrilling racing action! 🏁🔥 For event details and updates\, visit www.rockymountainspeedway.ca.
URL:https://visitvalemount.ca/event/rocky-mountain-speedway-racing-season-opener-invitational/
LOCATION:Rocky Mountain Speedway\, 100 Cedarside Road\, Box 323\, Valemount\, BC\, V0E2Z0\, Canada
END:VEVENT
BEGIN:VEVENT
DTSTART;TZID=America/Vancouver:20250426T100000
DTEND;TZID=America/Vancouver:20250426T120000
DTSTAMP:20260420T000855
CREATED:20250329T220934Z
LAST-MODIFIED:20250329T221130Z
UID:12224-1745661600-1745668800@visitvalemount.ca
SUMMARY:Cache In Trash Out (CITO) Community Cleaning & Geocaching Event
DESCRIPTION:Join us for a fun and rewarding morning of geocaching and community cleanup! 🌿🗺️ \n📍 Location: George Hicks Regional Park\n📅 Date: Saturday April 26\, 2025\n⏰ Time: 10:00 AM – 12:00 PM \nLearn how to geocache while helping to keep our beautiful landscape clean. Bring walking shoes\, gloves\, and a water bottle\, and take part in this eco-friendly adventure. \n🎁 Win prizes!\n☕ Enjoy refreshments provided by Tourism Valemount! \nLet’s explore\, clean up\, and have fun together. See you there! 🚮✨
URL:https://visitvalemount.ca/event/cache-in-trash-out-cito-community-cleaning-geocaching-event/
END:VEVENT
BEGIN:VEVENT
DTSTART;TZID=America/Vancouver:20250305T080000
DTEND;TZID=America/Vancouver:20250324T233000
DTSTAMP:20260420T000855
CREATED:20250305T172442Z
LAST-MODIFIED:20250305T172719Z
UID:12212-1741161600-1742859000@visitvalemount.ca
SUMMARY:JOB OPPORTUNITY - Visitor Information Centre Counsellors
DESCRIPTION:Join Tourism Valemount as a Visitor Information Centre Counsellor! This is a full-time\, seasonal position perfect for students who love sharing local knowledge and meeting people from all over the world. We are looking for passionate people in Valemount to be Visitor Information Counsellors.  \nTo apply send your letter of application and resume to the Team Leader at tourismvalemount@gmail.com with the email subject line: Visitor Centre Counsellor Position. Applications will be open until March 24\, 2025. Start date of May 1\, 2025 \nFor more information about the position and application details\, please refer to the linked document\, here: VIC Counsellor Job Posting
URL:https://visitvalemount.ca/event/job-opportunity-visitor-information-centre-counsellors/
END:VEVENT
BEGIN:VEVENT
DTSTART;TZID=America/Vancouver:20250131T190000
DTEND;TZID=America/Vancouver:20250131T230000
DTSTAMP:20260420T000855
CREATED:20250110T002926Z
LAST-MODIFIED:20250110T031631Z
UID:12078-1738350000-1738364400@visitvalemount.ca
SUMMARY:Live Music January 2025 at the Legion
DESCRIPTION:Every Friday\, Valemount comes alive with musical energy!  \nJan 3 – Jam Night\nJan 10 – Open Mic Night\nJan 17 – TBA\nJan 24 – Open Mic\nJan 31 – TBA \nDinner: 5:00 pm\nMusic: 7:00 pm (children welcome until 10 pm)\nWhere: Branch 266\, Valemount Legion
URL:https://visitvalemount.ca/event/january-live-music-at-the-legion/
END:VEVENT
BEGIN:VEVENT
DTSTART;TZID=America/Vancouver:20250124T170000
DTEND;TZID=America/Vancouver:20250124T230000
DTSTAMP:20260420T000855
CREATED:20250110T003656Z
LAST-MODIFIED:20250110T003656Z
UID:12090-1737738000-1737759600@visitvalemount.ca
SUMMARY:Open Mic Night at the Legion
DESCRIPTION:Every Friday\, Valemount comes alive with musical energy! \nDinner: 5:00 pm\nMusic: 7:00 pm (children welcome until 10 pm)\nWhere: Branch 266\, Valemount Legion
URL:https://visitvalemount.ca/event/open-mic-night-at-the-legion-2/
END:VEVENT
BEGIN:VEVENT
DTSTART;TZID=America/Vancouver:20250117T170000
DTEND;TZID=America/Vancouver:20250117T230000
DTSTAMP:20260420T000855
CREATED:20250110T003557Z
LAST-MODIFIED:20250110T003557Z
UID:12088-1737133200-1737154800@visitvalemount.ca
SUMMARY:Live Music at the Legion
DESCRIPTION:Every Friday\, Valemount comes alive with musical energy! \nDinner: 5:00 pm\nMusic: 7:00 pm (children welcome until 10 pm)\nWhere: Branch 266\, Valemount Legion
URL:https://visitvalemount.ca/event/live-music-at-the-legion-2/
END:VEVENT
BEGIN:VEVENT
DTSTART;TZID=America/Vancouver:20250110T170000
DTEND;TZID=America/Vancouver:20250110T230000
DTSTAMP:20260420T000855
CREATED:20250110T003251Z
LAST-MODIFIED:20250110T003251Z
UID:12086-1736528400-1736550000@visitvalemount.ca
SUMMARY:Open Mic Night at the Legion
DESCRIPTION:Every Friday\, Valemount comes alive with musical energy! \nDinner: 5:00 pm\nMusic: 7:00 pm (children welcome until 10 pm)\nWhere: Branch 266\, Valemount Legion
URL:https://visitvalemount.ca/event/open-mic-night-at-the-legion/
END:VEVENT
END:VCALENDAR