BEGIN:VCALENDAR
VERSION:2.0
PRODID:-//Tourism Valemount - ECPv6.6.1//NONSGML v1.0//EN
CALSCALE:GREGORIAN
METHOD:PUBLISH
X-ORIGINAL-URL:https://visitvalemount.ca
X-WR-CALDESC:Events for Tourism Valemount
REFRESH-INTERVAL;VALUE=DURATION:PT1H
X-Robots-Tag:noindex
X-PUBLISHED-TTL:PT1H
BEGIN:VTIMEZONE
TZID:America/Vancouver
BEGIN:DAYLIGHT
TZOFFSETFROM:-0800
TZOFFSETTO:-0700
TZNAME:PDT
DTSTART:20260308T100000
END:DAYLIGHT
BEGIN:STANDARD
TZOFFSETFROM:-0700
TZOFFSETTO:-0800
TZNAME:PST
DTSTART:20261101T090000
END:STANDARD
END:VTIMEZONE
BEGIN:VEVENT
DTSTART;VALUE=DATE:20261205
DTEND;VALUE=DATE:20261206
DTSTAMP:20260420T000230
CREATED:20251201T222632Z
LAST-MODIFIED:20260210T023536Z
UID:12762-1796428800-1796515199@visitvalemount.ca
SUMMARY:Frostbite Fury Snow Oval Racing
DESCRIPTION:Frostbite Fury Snow Oval Racing – Valemount\, BC\nPresented by the Rocky Mountain Racing Association \nGet ready for high-speed winter action at the Rocky Mountain Speedway on February 14\, 2026! Spectator gates open at 10:00 AM—come early to grab a good spot and soak in the excitement. \nWarm up by the fires\, enjoy tasty eats from the concession\, sip something refreshing in the beer garden\, and snag some event swag while you’re there! \nTickets:\n– $20 Adults\n– $15 Seniors & Youth\n– Free Kids under 12 \nDon’t miss this epic day of snow oval racing in the Rockies!
URL:https://visitvalemount.ca/event/frostbite-fury-snow-oval-racing/
END:VEVENT
END:VCALENDAR