BEGIN:VCALENDAR
VERSION:2.0
PRODID:-//Tourism Valemount - ECPv6.6.1//NONSGML v1.0//EN
CALSCALE:GREGORIAN
METHOD:PUBLISH
X-WR-CALNAME:Tourism Valemount
X-ORIGINAL-URL:https://visitvalemount.ca
X-WR-CALDESC:Events for Tourism Valemount
REFRESH-INTERVAL;VALUE=DURATION:PT1H
X-Robots-Tag:noindex
X-PUBLISHED-TTL:PT1H
BEGIN:VTIMEZONE
TZID:America/Vancouver
BEGIN:DAYLIGHT
TZOFFSETFROM:-0800
TZOFFSETTO:-0700
TZNAME:PDT
DTSTART:20210314T100000
END:DAYLIGHT
BEGIN:STANDARD
TZOFFSETFROM:-0700
TZOFFSETTO:-0800
TZNAME:PST
DTSTART:20211107T090000
END:STANDARD
BEGIN:DAYLIGHT
TZOFFSETFROM:-0800
TZOFFSETTO:-0700
TZNAME:PDT
DTSTART:20220313T100000
END:DAYLIGHT
BEGIN:STANDARD
TZOFFSETFROM:-0700
TZOFFSETTO:-0800
TZNAME:PST
DTSTART:20221106T090000
END:STANDARD
BEGIN:DAYLIGHT
TZOFFSETFROM:-0800
TZOFFSETTO:-0700
TZNAME:PDT
DTSTART:20230312T100000
END:DAYLIGHT
BEGIN:STANDARD
TZOFFSETFROM:-0700
TZOFFSETTO:-0800
TZNAME:PST
DTSTART:20231105T090000
END:STANDARD
BEGIN:DAYLIGHT
TZOFFSETFROM:-0800
TZOFFSETTO:-0700
TZNAME:PDT
DTSTART:20240310T100000
END:DAYLIGHT
BEGIN:STANDARD
TZOFFSETFROM:-0700
TZOFFSETTO:-0800
TZNAME:PST
DTSTART:20241103T090000
END:STANDARD
END:VTIMEZONE
BEGIN:VEVENT
DTSTART;TZID=America/Vancouver:20240613T150000
DTEND;TZID=America/Vancouver:20240926T190000
DTSTAMP:20260419T222322
CREATED:20190606T183233Z
LAST-MODIFIED:20240911T201202Z
UID:4855-1718290800-1727377200@visitvalemount.ca
SUMMARY:The Valemount Farmers' Market
DESCRIPTION:The Valemount Farmers’ Market is held beside the Valemount Visitor Centre on Thursdays from June 13 to September 26\, 2024\, from 4:00pm to 7:00pm. \nThe market hosts local vendors providing Make-it\, Bake-it or Grow-it products. Discover local produce\, hand crafted gifts and fresh baked treats.\nConcession\, and food trucks are also on site. Enjoy the peaceful setting\, live music and meeting the locals!
URL:https://visitvalemount.ca/event/the-valemount-farmers-market/
ATTACH;FMTTYPE=image/jpeg:https://visitvalemount.ca/site2019/wp-content/uploads/2019/06/ValemountFallVibes-138-scaled.jpg
ORGANIZER;CN="Valemount Learning Centre":MAILTO:valemountmarket@outlook.com
END:VEVENT
BEGIN:VEVENT
DTSTART;TZID=America/Vancouver:20240607T163000
DTEND;TZID=America/Vancouver:20240609T160000
DTSTAMP:20260419T222322
CREATED:20190427T041755Z
LAST-MODIFIED:20240606T232032Z
UID:3709-1717777800-1717948800@visitvalemount.ca
SUMMARY:Valemountain Days!
DESCRIPTION:Join in the celebration\, dance in the streets to music provided by our talented locals. Explore the community and enjoy some of the best of Valemount’s local restaurants. For more than 40 years we’ve been celebrating Valemountain Days! Join in on the fun and create some memories! Activities include bike decorating contest\, games\, live music and dancing on 5th between Cedar and Birch Ave\, a parade on Saturday morning that starts at Main Street goes down 5th and ends at the Canoe Valley Recreation Center on Elm Street. On Saturday and Sunday there will be a concession\, show & shine car show\, a fun-zone for children as well as slow pitch tourney and beer garden located at the end of Elm Street at the Canoe Valley Recreation Center\, and Valemount Sportsplex. This is a fun event for families and visitors of all ages! \n  \n 
URL:https://visitvalemount.ca/event/38th-annual-valemountain-days/
END:VEVENT
BEGIN:VEVENT
DTSTART;TZID=America/Vancouver:20240504T123000
DTEND;TZID=America/Vancouver:20240504T143000
DTSTAMP:20260419T222322
CREATED:20230428T211947Z
LAST-MODIFIED:20240924T230217Z
UID:6207-1714825800-1714833000@visitvalemount.ca
SUMMARY:Swift Creek Chinook Salmon Send off
DESCRIPTION:Coming up in May of 2025 the Chinook Salmon Send off with Spruce City Wildlife Association\, Simpcw and Tourism Valemount.\nThe release will be at the George Hicks Park and we send the young Chinook off on their journey to the ocean!\nThere will be activities for the family\, and a BBQ!\nStay tuned for the date announcement.  \nMake a weekend out of it and explore the many trails\, businesses\, and indoor/outdoor activities in the community!
URL:https://visitvalemount.ca/event/chinook-salmon-send-off/
LOCATION:George Hicks Park\, George Hicks Regional Park\, Valemount\, British Columbia\, V0A 1H0\, Canada
ATTACH;FMTTYPE=image/jpeg:https://visitvalemount.ca/site2019/wp-content/uploads/2020/09/Salmon-3.jpg
END:VEVENT
BEGIN:VEVENT
DTSTART;TZID=America/Vancouver:20210911T180000
DTEND;TZID=America/Vancouver:20210913T140000
DTSTAMP:20260419T222322
CREATED:20210901T175008Z
LAST-MODIFIED:20210901T175346Z
UID:5954-1631383200-1631541600@visitvalemount.ca
SUMMARY:Fall Fest - A Mountain Bike Celebration
DESCRIPTION:Friday\, September 10: 6:00 pm–9:00pm\n\nPre-event registration (not mandatory) and evening social at Three Ranges Brewing Company. Enjoy some local flavours and save yourself some time by pre-registering for Saturday’s events in advance.\n\n\nSaturday\, September 11: 10:00 am–4:00 pm\n\nSimply a great day on Bikes. On site registration is mandatory.\nPeak Shuttles\, District Bicycles and a few other guests (TBD) will be providing shuttle services. ($20 for shuttle access which includes your lunch ticket) Lunch Provided by BBQ Bandito’s ($10 without shuttle pass).\nEvery person under 15 and under riding the new Green Flow trail (Tyrannosaurus Rock) receives a commemorative medallion made locally in Valemount.\nPoker Ride ($20 per entry) Explore the trails of the Valemount Bike Park Winning hand scoops up 50% of the entry dollars. To be awarded at the evening event.\nSkinny (balance obstacle) competition in the main staging area at 3pm. Do you have what it takes?\n\n\nSaturday\, September 11: 7:00 pm–10:30 pm\n\nMovie night and social at the Best Western Valemount (Planned to be an outdoor event).\n$10 Entry fee includes appetizers and door prize ticket. Extra door prize tickets are 3 for $10.\nBike Concierge and secure storage!\n7:00 pm–9:00 pm – Appetizers and Cash Bar\, door prizes etc. Poker Run hands will be drawn with proof of completion and cash prize awarded.\n9:00 pm Premier of “A Bikers Ballad” This new film from Matchstick Productions dives into the different worlds of mountain biking. From Enduro to Cross Country to Freeride the film makers at Matchstick leave no stone unturned. This is a bike movie for all bikers and an ode to all types of mountain biking.\n\nSunday\, September 12: 10:00 am–2:00 pm\n\nVARDA hosted group rides (By donation to the Valemount Bike Park).\nJoin some Valemount locals on one of several group rides through out trail system. These rides will be low risk and pedal focused. Pre- registration is required and space is limited. Email info@ridevalemount.com to register.\nSmash Ride – Advanced pedallers looking to sweat out the IPA.\nIntermediate Ride – Roughly a 20 km pedal with a good pace.\nBeginner Ride – More chill vibe just pedaling around.\nLadies Specific Intermediate – Roughly a 20 km pedal with a good pace.\nLadies Specific Beginner Ride – More chill vibe just pedaling around.\n\n\nPlease stay tuned for more info and reach out with any questions!
URL:https://visitvalemount.ca/event/fall-fest-a-mountain-bike-celebration/
ATTACH;FMTTYPE=image/jpeg:https://visitvalemount.ca/site2019/wp-content/uploads/2021/09/232144141_10159319804935470_3433151794050292161_n.jpg
ORGANIZER;CN="Curtis Pawliuk":MAILTO:info@ridevalemount.com
END:VEVENT
END:VCALENDAR