BEGIN:VCALENDAR
VERSION:2.0
PRODID:-//Tourism Valemount - ECPv6.6.1//NONSGML v1.0//EN
CALSCALE:GREGORIAN
METHOD:PUBLISH
X-ORIGINAL-URL:https://visitvalemount.ca
X-WR-CALDESC:Events for Tourism Valemount
REFRESH-INTERVAL;VALUE=DURATION:PT1H
X-Robots-Tag:noindex
X-PUBLISHED-TTL:PT1H
BEGIN:VTIMEZONE
TZID:America/Vancouver
BEGIN:DAYLIGHT
TZOFFSETFROM:-0800
TZOFFSETTO:-0700
TZNAME:PDT
DTSTART:20240310T100000
END:DAYLIGHT
BEGIN:STANDARD
TZOFFSETFROM:-0700
TZOFFSETTO:-0800
TZNAME:PST
DTSTART:20241103T090000
END:STANDARD
END:VTIMEZONE
BEGIN:VEVENT
DTSTART;TZID=America/Vancouver:20241108T170000
DTEND;TZID=America/Vancouver:20241108T220000
DTSTAMP:20260420T120537
CREATED:20241115T005812Z
LAST-MODIFIED:20241115T005938Z
UID:11999-1731085200-1731103200@visitvalemount.ca
SUMMARY:Live Music at the Legion - Open Mic
DESCRIPTION:Every Friday\, Valemount comes alive with musical energy! Join us for Open Mic Night on November 8\, 2024. \nDinner: 5:00 pm\nMusic: 7:00 pm\nWhere: Branch 266\, Valemount Legion
URL:https://visitvalemount.ca/event/live-music-at-the-legion/
END:VEVENT
BEGIN:VEVENT
DTSTART;TZID=America/Vancouver:20241115T170000
DTEND;TZID=America/Vancouver:20241115T220000
DTSTAMP:20260420T120537
CREATED:20241115T010110Z
LAST-MODIFIED:20241115T010110Z
UID:12004-1731690000-1731708000@visitvalemount.ca
SUMMARY:Live Music at the Legion - Karaoke
DESCRIPTION:Every Friday\, Valemount comes alive with musical energy! Join us for Karaoke Night on November 15\, 2024. \nDinner: 5:00 pm\nMusic: 7:00 pm\nWhere: Branch 266\, Valemount Legion
URL:https://visitvalemount.ca/event/live-music-at-the-legion-karaoke/
END:VEVENT
BEGIN:VEVENT
DTSTART;TZID=America/Vancouver:20241116T100000
DTEND;TZID=America/Vancouver:20241116T140000
DTSTAMP:20260420T120537
CREATED:20241115T004454Z
LAST-MODIFIED:20241115T004516Z
UID:11992-1731751200-1731765600@visitvalemount.ca
SUMMARY:Valemount Christmas Craft Fair 2024
DESCRIPTION:Partake in festive fun at the Valemount Christmas Craft Fair! Enjoy a Junk Food Raffle\, Concession\, Cake Walk\, and Purdys treats. \nWhen: November 16\, 2024\, from 10:00 am to 2:00 pm\nWhere: Valemount Secondary School\nContact: To book a table\, call 250-566-1840
URL:https://visitvalemount.ca/event/valemount-christmas-craft-fair/
END:VEVENT
BEGIN:VEVENT
DTSTART;TZID=America/Vancouver:20241122T170000
DTEND;TZID=America/Vancouver:20241122T220000
DTSTAMP:20260420T120537
CREATED:20241115T010402Z
LAST-MODIFIED:20241115T010402Z
UID:12006-1732294800-1732312800@visitvalemount.ca
SUMMARY:Live Music at the Legion – Open Mic
DESCRIPTION:Every Friday\, Valemount comes alive with musical energy! Join us for Open Mic Night on November 22\, 2024. \nDinner: 5:00 pm\nMusic: 7:00 pm\nWhere: Branch 266\, Valemount Legion
URL:https://visitvalemount.ca/event/live-music-at-the-legion-open-mic/
END:VEVENT
BEGIN:VEVENT
DTSTART;TZID=America/Vancouver:20241129T170000
DTEND;TZID=America/Vancouver:20241129T220000
DTSTAMP:20260420T120537
CREATED:20241115T010504Z
LAST-MODIFIED:20241115T010504Z
UID:12008-1732899600-1732917600@visitvalemount.ca
SUMMARY:Live Music at the Legion – Jam Night
DESCRIPTION:Every Friday\, Valemount comes alive with musical energy! Join us for a Jam Session on November 22\, 2024. \nDinner: 5:00 pm\nMusic: 7:00 pm\nWhere: Branch 266\, Valemount Legion
URL:https://visitvalemount.ca/event/live-music-at-the-legion-jam-night/
END:VEVENT
BEGIN:VEVENT
DTSTART;TZID=America/Vancouver:20241130T100000
DTEND;TZID=America/Vancouver:20241130T150000
DTSTAMP:20260420T120537
CREATED:20241115T005323Z
LAST-MODIFIED:20241115T005323Z
UID:11996-1732960800-1732978800@visitvalemount.ca
SUMMARY:Legion Christmas Craft Fair 2024
DESCRIPTION:Enjoy festive fun at the Legion Christmas Craft Fair! Browse unique creations from local artisans\, savor delicious treats\, and share your Christmas wishes with Santa from 11 am to 1 pm. \nWhen: November 30\, 2024\, from 10:00 am to 3:00 pm\nWhere: Valemount Legion\, 970 Main Street\nContact: To book a table\, call Jeanne at 250-566-1796 or message on Facebook.
URL:https://visitvalemount.ca/event/legion-christmas-craft-fair-2024/
END:VEVENT
END:VCALENDAR