BEGIN:VCALENDAR
VERSION:2.0
PRODID:-//Tourism Valemount - ECPv6.6.1//NONSGML v1.0//EN
CALSCALE:GREGORIAN
METHOD:PUBLISH
X-ORIGINAL-URL:https://visitvalemount.ca
X-WR-CALDESC:Events for Tourism Valemount
REFRESH-INTERVAL;VALUE=DURATION:PT1H
X-Robots-Tag:noindex
X-PUBLISHED-TTL:PT1H
BEGIN:VTIMEZONE
TZID:America/Vancouver
BEGIN:DAYLIGHT
TZOFFSETFROM:-0800
TZOFFSETTO:-0700
TZNAME:PDT
DTSTART:20250309T100000
END:DAYLIGHT
BEGIN:STANDARD
TZOFFSETFROM:-0700
TZOFFSETTO:-0800
TZNAME:PST
DTSTART:20251102T090000
END:STANDARD
END:VTIMEZONE
BEGIN:VEVENT
DTSTART;VALUE=DATE:20250704
DTEND;VALUE=DATE:20250707
DTSTAMP:20260420T000519
CREATED:20250630T004100Z
LAST-MODIFIED:20250630T004426Z
UID:12414-1751587200-1751846399@visitvalemount.ca
SUMMARY:The Alpenglow 100 - By Coast Mountain Trail Running
DESCRIPTION:Trail runners\, mark your calendars! The highly anticipated Alpenglow 100 Trail Running Race will take place on July 4th – 6th weekend in Valemount\, BC. This exciting new event promises breathtaking views via high alpine terrain\, climbing all the way up to 2400 meters / almost 7800ft\, and will certainly be an unforgettable challenge for runners of all skill levels. \nFor more information:\ntrailrunning.ca/race/alpenglow/\nThe Alpenglow100
URL:https://visitvalemount.ca/event/the-alpenglow-100-by-coast-mountain-trail-running/
END:VEVENT
BEGIN:VEVENT
DTSTART;TZID=America/Vancouver:20250705T190000
DTEND;TZID=America/Vancouver:20250705T210000
DTSTAMP:20260420T000519
CREATED:20250624T203620Z
LAST-MODIFIED:20250624T204437Z
UID:12396-1751742000-1751749200@visitvalemount.ca
SUMMARY:Saturdays in the Park - Concert Series: G. Michael Peters
DESCRIPTION:Join us in Centennial Park this summer for a free concert series featuring local musicians. This family-friendly event will have you grooving to great tunes all summer long!
URL:https://visitvalemount.ca/event/saturdays-in-the-park-concert-series-g-michael-peters/
END:VEVENT
BEGIN:VEVENT
DTSTART;VALUE=DATE:20250712
DTEND;VALUE=DATE:20250714
DTSTAMP:20260420T000519
CREATED:20241120T190803Z
LAST-MODIFIED:20241120T190803Z
UID:12044-1752278400-1752451199@visitvalemount.ca
SUMMARY:Rocky Mountain Speedway Racing - Invitational
DESCRIPTION:Feel the adrenaline at the Rocky Mountain Speedway! 🏎️ The 2025 season continues with the Invitational on July 12 & 13. Don’t miss the high-speed action and unforgettable excitement! 🏁🔥 For event details and updates\, visit www.rockymountainspeedway.ca.
URL:https://visitvalemount.ca/event/rocky-mountain-speedway-racing-invitational/
LOCATION:Rocky Mountain Speedway\, 100 Cedarside Road\, Box 323\, Valemount\, BC\, V0E2Z0\, Canada
END:VEVENT
BEGIN:VEVENT
DTSTART;TZID=America/Vancouver:20250712T190000
DTEND;TZID=America/Vancouver:20250712T210000
DTSTAMP:20260420T000519
CREATED:20250624T203709Z
LAST-MODIFIED:20250624T204430Z
UID:12399-1752346800-1752354000@visitvalemount.ca
SUMMARY:Saturdays in the Park - Concert Series: Jude Johnson
DESCRIPTION:Join us in Centennial Park this summer for a free concert series featuring local musicians. This family-friendly event will have you grooving to great tunes all summer long!
URL:https://visitvalemount.ca/event/saturdays-in-the-park-concert-series-jude-johnson/
END:VEVENT
BEGIN:VEVENT
DTSTART;TZID=America/Vancouver:20250719T190000
DTEND;TZID=America/Vancouver:20250719T210000
DTSTAMP:20260420T000519
CREATED:20250624T203901Z
LAST-MODIFIED:20250624T203901Z
UID:12401-1752951600-1752958800@visitvalemount.ca
SUMMARY:Saturdays in the Park - Concert Series: Cat Crowley-Wied
DESCRIPTION:Join us in Centennial Park this summer for a free concert series featuring local musicians. This family-friendly event will have you grooving to great tunes all summer long!
URL:https://visitvalemount.ca/event/saturdays-in-the-park-concert-series-cat-crowley-wied/
END:VEVENT
END:VCALENDAR