BEGIN:VCALENDAR
VERSION:2.0
PRODID:-//Tourism Valemount - ECPv6.6.1//NONSGML v1.0//EN
CALSCALE:GREGORIAN
METHOD:PUBLISH
X-WR-CALNAME:Tourism Valemount
X-ORIGINAL-URL:https://visitvalemount.ca
X-WR-CALDESC:Events for Tourism Valemount
REFRESH-INTERVAL;VALUE=DURATION:PT1H
X-Robots-Tag:noindex
X-PUBLISHED-TTL:PT1H
BEGIN:VTIMEZONE
TZID:America/Vancouver
BEGIN:DAYLIGHT
TZOFFSETFROM:-0800
TZOFFSETTO:-0700
TZNAME:PDT
DTSTART:20260308T100000
END:DAYLIGHT
BEGIN:STANDARD
TZOFFSETFROM:-0700
TZOFFSETTO:-0800
TZNAME:PST
DTSTART:20261101T090000
END:STANDARD
END:VTIMEZONE
BEGIN:VEVENT
DTSTART;VALUE=DATE:20260306
DTEND;VALUE=DATE:20260307
DTSTAMP:20260419T113647
CREATED:20260221T200553Z
LAST-MODIFIED:20260221T200553Z
UID:13256-1772755200-1772841599@visitvalemount.ca
SUMMARY:Vancouver International Mountain Film Festival
DESCRIPTION:If you love 🏔️ Mountain Films 🏔️ and want to continue to have this opportunity for a night out with like-minded people watching some of the most inspiring films from around the world 🌎\, then you know what to do!\nJoin us Friday\, March 6th 2026 at the Valemount Community Theatre.\nShow at 7:30\, Doors at 7pm \nTickets: $25/General Admission\, $50 Family pass (1-2 adults and up to 3 minors living under their care) \nTickets are available at Infinity Office & Health (cash only)\nOnline at: Valemount Arts (card only)\nOr at the door (cash only) \nThere will be a concession onsite during the intermission.  \nGather your friends\, purchase your tickets\, and come on down to the Community Theatre for a fun evening.
URL:https://visitvalemount.ca/event/vancouver-international-mountain-film-festival/
END:VEVENT
BEGIN:VEVENT
DTSTART;VALUE=DATE:20260307
DTEND;VALUE=DATE:20260308
DTSTAMP:20260419T113647
CREATED:20251120T190359Z
LAST-MODIFIED:20260114T001323Z
UID:12739-1772841600-1772927999@visitvalemount.ca
SUMMARY:Forever29 - Celebrating Mama_Gids\, Sledding\, and Avalanche safety!
DESCRIPTION:Join us on March 7\, 2026\, for Mamagids’ Birthday Bash — Forever29! A day dedicated to celebrating sledding and promoting avalanche safety at Allan Creek in Valemount\, BC. \nThis family-friendly event will feature outdoor games and activities\, food\, and exciting prize giveaways! \nWe’re also offering sponsorship opportunities for local businesses and community members who want to support snow safety while showcasing their brand. \nFor more information:\n– Contact Taylor Gidney on Instagram at @mama_gids\n– Sponsorship Package \n \n \n \nPhotos by Boosted Imagery
URL:https://visitvalemount.ca/event/forever29-celebrating-mama_gids-sledding-and-avalanche-safety/
END:VEVENT
END:VCALENDAR