BEGIN:VCALENDAR
VERSION:2.0
PRODID:-//Tourism Valemount - ECPv6.6.1//NONSGML v1.0//EN
CALSCALE:GREGORIAN
METHOD:PUBLISH
X-WR-CALNAME:Tourism Valemount
X-ORIGINAL-URL:https://visitvalemount.ca
X-WR-CALDESC:Events for Tourism Valemount
REFRESH-INTERVAL;VALUE=DURATION:PT1H
X-Robots-Tag:noindex
X-PUBLISHED-TTL:PT1H
BEGIN:VTIMEZONE
TZID:America/Vancouver
BEGIN:DAYLIGHT
TZOFFSETFROM:-0800
TZOFFSETTO:-0700
TZNAME:PDT
DTSTART:20260308T100000
END:DAYLIGHT
BEGIN:STANDARD
TZOFFSETFROM:-0700
TZOFFSETTO:-0800
TZNAME:PST
DTSTART:20261101T090000
END:STANDARD
END:VTIMEZONE
BEGIN:VEVENT
DTSTART;VALUE=DATE:20260523
DTEND;VALUE=DATE:20260525
DTSTAMP:20260419T114042
CREATED:20250924T160741Z
LAST-MODIFIED:20250924T160741Z
UID:12550-1779494400-1779667199@visitvalemount.ca
SUMMARY:Rocky Mountain Speedway Racing - Season Opener Payout Invitational
DESCRIPTION:
URL:https://visitvalemount.ca/event/rocky-mountain-speedway-racing-season-opener-payout-invitational/
LOCATION:Rocky Mountain Speedway\, 100 Cedarside Road\, Box 323\, Valemount\, BC\, V0E2Z0\, Canada
END:VEVENT
END:VCALENDAR